Multiple platform build/check report for BioC 3.22 (original) (raw)

This page was generated on 2025-05-02 12:04 -0400 (Fri, 02 May 2025).

QUICK STATS

OS / Arch

INSTALL

BUILD

CHECK

BUILD BIN

nebbiolo2

Linux (Ubuntu 24.04.1 LTS) / x86_64

0 0 12
0 0 12
0 0 2 10

palomino8

Windows Server 2022 Datacenter / x64

0 0 12
0 1 11
0 0 3 8
0 0 11

lconway

macOS 12.7.1 Monterey / x86_64

0 1 11
0 5 7
0 1 1 5
0 0 7

kjohnson3

macOS 13.7.1 Ventura / arm64

0 1 11
0 5 7
0 2 1 4
0 0 7

taishan

Linux (openEuler 24.03 LTS) / aarch64

0 0 12
0 4 8
1 3 2 2

Package 1/12

Hostname

OS / Arch

INSTALL

BUILD

CHECK

BUILD BIN

adductomicsR 1.25.0 (landing page)
Josie Hayes

git_last_commit: 91b17a9
git_last_commit_date: 2025-04-15 11:40:40 -0400

nebbiolo2

Linux (Ubuntu 24.04.1 LTS) / x86_64

OK

OK

WARNINGS

UNNEEDED, same version is already published

palomino8

Windows Server 2022 Datacenter / x64

OK

OK

WARNINGS

OK

UNNEEDED, same version is already published

lconway

macOS 12.7.1 Monterey / x86_64

OK

OK

WARNINGS

OK

UNNEEDED, same version is already published

kjohnson3

macOS 13.7.1 Ventura / arm64

OK

OK

WARNINGS

OK

UNNEEDED, same version is already published

taishan

Linux (openEuler 24.03 LTS) / aarch64

OK

OK

WARNINGS

Package 2/12

Hostname

OS / Arch

INSTALL

BUILD

CHECK

BUILD BIN

CluMSID 1.25.0 (landing page)
Tobias Depke

git_last_commit: 03bd7ec
git_last_commit_date: 2025-04-15 11:40:07 -0400

nebbiolo2

Linux (Ubuntu 24.04.1 LTS) / x86_64

OK

OK

WARNINGS

UNNEEDED, same version is already published

palomino8

Windows Server 2022 Datacenter / x64

OK

OK

WARNINGS

OK

UNNEEDED, same version is already published

lconway

macOS 12.7.1 Monterey / x86_64

OK

ERROR

skipped

skipped

kjohnson3

macOS 13.7.1 Ventura / arm64

OK

ERROR

skipped

skipped

taishan

Linux (openEuler 24.03 LTS) / aarch64

OK

OK

WARNINGS

Package 3/12

Hostname

OS / Arch

INSTALL

BUILD

CHECK

BUILD BIN

MSnbase 2.35.0 (landing page)
Laurent Gatto

git_last_commit: 3c33fcf
git_last_commit_date: 2025-04-15 10:02:19 -0400

nebbiolo2

Linux (Ubuntu 24.04.1 LTS) / x86_64

OK

OK

OK

UNNEEDED, same version is already published

palomino8

Windows Server 2022 Datacenter / x64

OK

OK

OK

OK

UNNEEDED, same version is already published

lconway

macOS 12.7.1 Monterey / x86_64

OK

OK

OK

OK

UNNEEDED, same version is already published

kjohnson3

macOS 13.7.1 Ventura / arm64

OK

OK

OK

OK

UNNEEDED, same version is already published

taishan

Linux (openEuler 24.03 LTS) / aarch64

OK

ERROR

skipped

Package 4/12

Hostname

OS / Arch

INSTALL

BUILD

CHECK

BUILD BIN

MSnID 1.43.0 (landing page)
Vlad Petyuk

git_last_commit: 6f33472
git_last_commit_date: 2025-04-15 10:34:15 -0400

nebbiolo2

Linux (Ubuntu 24.04.1 LTS) / x86_64

OK

OK

OK

UNNEEDED, same version is already published

palomino8

Windows Server 2022 Datacenter / x64

OK

OK

OK

OK

UNNEEDED, same version is already published

lconway

macOS 12.7.1 Monterey / x86_64

OK

OK

OK

OK

UNNEEDED, same version is already published

kjohnson3

macOS 13.7.1 Ventura / arm64

OK

OK

ERROR

OK

taishan

Linux (openEuler 24.03 LTS) / aarch64

OK

OK

ERROR

Package 5/12

Hostname

OS / Arch

INSTALL

BUILD

CHECK

BUILD BIN

msPurity 1.35.0 (landing page)
Thomas N. Lawson

git_last_commit: d018d66
git_last_commit_date: 2025-04-15 11:02:10 -0400

nebbiolo2

Linux (Ubuntu 24.04.1 LTS) / x86_64

OK

OK

OK

UNNEEDED, same version is already published

palomino8

Windows Server 2022 Datacenter / x64

OK

OK

OK

OK

UNNEEDED, same version is already published

lconway

macOS 12.7.1 Monterey / x86_64

OK

ERROR

skipped

skipped

kjohnson3

macOS 13.7.1 Ventura / arm64

OK

ERROR

skipped

skipped

taishan

Linux (openEuler 24.03 LTS) / aarch64

OK

OK

TIMEOUT

Package 6/12

Hostname

OS / Arch

INSTALL

BUILD

CHECK

BUILD BIN

peakPantheR 1.23.0 (landing page)
Arnaud Wolfer

git_last_commit: c81e5f2
git_last_commit_date: 2025-04-15 11:50:16 -0400

nebbiolo2

Linux (Ubuntu 24.04.1 LTS) / x86_64

OK

OK

OK

UNNEEDED, same version is already published

palomino8

Windows Server 2022 Datacenter / x64

OK

OK

OK

OK

UNNEEDED, same version is already published

lconway

macOS 12.7.1 Monterey / x86_64

OK

ERROR

skipped

skipped

kjohnson3

macOS 13.7.1 Ventura / arm64

OK

ERROR

skipped

skipped

taishan

Linux (openEuler 24.03 LTS) / aarch64

OK

OK

ERROR

Package 7/12

Hostname

OS / Arch

INSTALL

BUILD

CHECK

BUILD BIN

RMassBank 3.19.0 (landing page)
RMassBank at Eawag

git_last_commit: 8175a30
git_last_commit_date: 2025-04-15 10:14:52 -0400

nebbiolo2

Linux (Ubuntu 24.04.1 LTS) / x86_64

OK

OK

OK

UNNEEDED, same version is already published

palomino8

Windows Server 2022 Datacenter / x64

OK

OK

OK

OK

UNNEEDED, same version is already published

lconway

macOS 12.7.1 Monterey / x86_64

OK

OK

ERROR

OK

kjohnson3

macOS 13.7.1 Ventura / arm64

OK

OK

ERROR

OK

taishan

Linux (openEuler 24.03 LTS) / aarch64

OK

ERROR

skipped

Package 8/12

Hostname

OS / Arch

INSTALL

BUILD

CHECK

BUILD BIN

SIMAT 1.41.0 (landing page)
M. R. Nezami Ranjbar

git_last_commit: abee849
git_last_commit_date: 2025-04-15 10:49:04 -0400

nebbiolo2

Linux (Ubuntu 24.04.1 LTS) / x86_64

OK

OK

OK

UNNEEDED, same version is already published

palomino8

Windows Server 2022 Datacenter / x64

OK

OK

OK

OK

UNNEEDED, same version is already published

lconway

macOS 12.7.1 Monterey / x86_64

OK

OK

OK

OK

UNNEEDED, same version is already published

kjohnson3

macOS 13.7.1 Ventura / arm64

OK

OK

OK

OK

UNNEEDED, same version is already published

taishan

Linux (openEuler 24.03 LTS) / aarch64

OK

OK

OK

Package 9/12

Hostname

OS / Arch

INSTALL

BUILD

CHECK

BUILD BIN

TargetDecoy 1.15.0 (landing page)
Elke Debrie

git_last_commit: 179e462
git_last_commit_date: 2025-04-15 12:42:16 -0400

nebbiolo2

Linux (Ubuntu 24.04.1 LTS) / x86_64

OK

OK

OK

UNNEEDED, same version is already published

palomino8

Windows Server 2022 Datacenter / x64

OK

OK

OK

OK

UNNEEDED, same version is already published

lconway

macOS 12.7.1 Monterey / x86_64

OK

OK

OK

OK

UNNEEDED, same version is already published

kjohnson3

macOS 13.7.1 Ventura / arm64

OK

OK

OK

OK

UNNEEDED, same version is already published

taishan

Linux (openEuler 24.03 LTS) / aarch64

OK

OK

ERROR

Package 10/12

Hostname

OS / Arch

INSTALL

BUILD

CHECK

BUILD BIN

topdownr 1.31.0 (landing page)
Sebastian Gibb

git_last_commit: 00787cc
git_last_commit_date: 2025-04-15 11:15:33 -0400

nebbiolo2

Linux (Ubuntu 24.04.1 LTS) / x86_64

OK

OK

OK

UNNEEDED, same version is already published

palomino8

Windows Server 2022 Datacenter / x64

OK

OK

OK

OK

UNNEEDED, same version is already published

lconway

macOS 12.7.1 Monterey / x86_64

OK

OK

OK

OK

UNNEEDED, same version is already published

kjohnson3

macOS 13.7.1 Ventura / arm64

OK

OK

OK

OK

UNNEEDED, same version is already published

taishan

Linux (openEuler 24.03 LTS) / aarch64

OK

OK

OK

Package 11/12

Hostname

OS / Arch

INSTALL

BUILD

CHECK

BUILD BIN

xcms 4.7.0 (landing page)
Steffen Neumann

git_last_commit: 67d516c
git_last_commit_date: 2025-04-15 09:36:15 -0400

nebbiolo2

Linux (Ubuntu 24.04.1 LTS) / x86_64

OK

OK

OK

UNNEEDED, same version is already published

palomino8

Windows Server 2022 Datacenter / x64

OK

OK

WARNINGS

OK

UNNEEDED, same version is already published

lconway

macOS 12.7.1 Monterey / x86_64

ERROR

ERROR

skipped

skipped

kjohnson3

macOS 13.7.1 Ventura / arm64

ERROR

ERROR

skipped

skipped

taishan

Linux (openEuler 24.03 LTS) / aarch64

OK

ERROR

skipped

Package 12/12

Hostname

OS / Arch

INSTALL

BUILD

CHECK

BUILD BIN

yamss 1.35.0 (landing page)
Leslie Myint

git_last_commit: 50381af
git_last_commit_date: 2025-04-15 11:06:49 -0400

nebbiolo2

Linux (Ubuntu 24.04.1 LTS) / x86_64

OK

OK

OK

UNNEEDED, same version is already published

palomino8

Windows Server 2022 Datacenter / x64

OK

ERROR

skipped

skipped

lconway

macOS 12.7.1 Monterey / x86_64

OK

ERROR

skipped

skipped

kjohnson3

macOS 13.7.1 Ventura / arm64

OK

ERROR

skipped

skipped

taishan

Linux (openEuler 24.03 LTS) / aarch64

OK

ERROR

skipped