Multiple platform build/check report for BioC 3.22 (original) (raw)
This page was generated on 2025-05-02 12:04 -0400 (Fri, 02 May 2025).
Hostname | OS | Arch (*) | R version | Installed pkgs |
---|---|---|---|---|
nebbiolo2 | Linux (Ubuntu 24.04.1 LTS) | x86_64 | 4.5.0 (2025-04-11) -- "How About a Twenty-Six" | 4744 |
palomino8 | Windows Server 2022 Datacenter | x64 | 4.5.0 (2025-04-11 ucrt) -- "How About a Twenty-Six" | 4506 |
lconway | macOS 12.7.1 Monterey | x86_64 | 4.5.0 Patched (2025-04-21 r88169) -- "How About a Twenty-Six" | 4544 |
kjohnson3 | macOS 13.7.1 Ventura | arm64 | 4.5.0 Patched (2025-04-21 r88169) -- "How About a Twenty-Six" | 4486 |
taishan | Linux (openEuler 24.03 LTS) | aarch64 | 4.5.0 (2025-04-11) -- "How About a Twenty-Six" | 4434 |
Click on any hostname to see more info about the system (e.g. compilers) (*) as reported by 'uname -p', except on Windows and Mac OS X |
All results for package systemPipeR
To the developers/maintainers of the systemPipeR package:
- Allow up to 24 hours (and sometimes 48 hours) for your latest push to git@git.bioconductor.org:packages/systemPipeR.git to reflect on this report. See Troubleshooting Build Report for more information.
- Use the following Renviron settings to reproduce errors and warnings.
- If 'R CMD check' started to fail recently on the Linux builder(s) over a missing dependency, add the missing dependency to 'Suggests:' in your DESCRIPTION file. See Renviron.bioc for more information.
Results for Bioconductor software packages that depend directly on package systemPipeR
QUICK STATS | OS / Arch | INSTALL | BUILD | CHECK | BUILD BIN | |
---|---|---|---|---|---|---|
nebbiolo2 | Linux (Ubuntu 24.04.1 LTS) / x86_64 | 001 | 001 | 0001 | ||
palomino8 | Windows Server 2022 Datacenter / x64 | 001 | 001 | 0001 | 001 | |
lconway | macOS 12.7.1 Monterey / x86_64 | 001 | 001 | 0001 | 001 | |
kjohnson3 | macOS 13.7.1 Ventura / arm64 | 001 | 001 | 0001 | 001 | |
taishan | Linux (openEuler 24.03 LTS) / aarch64 | 001 | 001 | 0001 | ||
Package 1/1 | Hostname | OS / Arch | INSTALL | BUILD | CHECK | BUILD BIN |
DiffBind 3.19.0 (landing page)Rory Stark git_last_commit: 200f567 git_last_commit_date: 2025-04-15 10:10:30 -0400 | nebbiolo2 | Linux (Ubuntu 24.04.1 LTS) / x86_64 | OK | OK | OK | ![]() |
palomino8 | Windows Server 2022 Datacenter / x64 | OK | OK | OK | OK | ![]() |
lconway | macOS 12.7.1 Monterey / x86_64 | OK | OK | OK | OK | ![]() |
kjohnson3 | macOS 13.7.1 Ventura / arm64 | OK | OK | OK | OK | ![]() |
taishan | Linux (openEuler 24.03 LTS) / aarch64 | OK | OK | OK |