Build/check report for BioC 3.22 experimental data (original) (raw)

spatialLIBD 1.21.4 (landing page)
Leonardo Collado-Torres

Snapshot Date: 2025-05-06 07:30 -0400 (Tue, 06 May 2025)
git_url: https://git.bioconductor.org/packages/spatialLIBD
git_branch: devel
git_last_commit: 8c0fcd8
git_last_commit_date: 2025-04-30 13:11:43 -0400 (Wed, 30 Apr 2025)

nebbiolo2

Linux (Ubuntu 24.04.1 LTS) / x86_64

OK

OK

OK

UNNEEDED, same version is already published