Multiple platform build/check report for BioC 3.21 (original) (raw)
This page was generated on 2025-05-01 11:37 -0400 (Thu, 01 May 2025).
Hostname | OS | Arch (*) | R version | Installed pkgs |
---|---|---|---|---|
nebbiolo1 | Linux (Ubuntu 24.04.1 LTS) | x86_64 | 4.5.0 RC (2025-04-04 r88126) -- "How About a Twenty-Six" | 4832 |
palomino7 | Windows Server 2022 Datacenter | x64 | 4.5.0 RC (2025-04-04 r88126 ucrt) -- "How About a Twenty-Six" | 4574 |
merida1 | macOS 12.7.5 Monterey | x86_64 | 4.5.0 RC (2025-04-04 r88126) -- "How About a Twenty-Six" | 4599 |
kjohnson1 | macOS 13.6.6 Ventura | arm64 | 4.5.0 RC (2025-04-04 r88129) -- "How About a Twenty-Six" | 4553 |
Click on any hostname to see more info about the system (e.g. compilers) (*) as reported by 'uname -p', except on Windows and Mac OS X |
All results for package DelayedRandomArray
To the developers/maintainers of the DelayedRandomArray package:
- Allow up to 24 hours (and sometimes 48 hours) for your latest push to git@git.bioconductor.org:packages/DelayedRandomArray.git to reflect on this report. See Troubleshooting Build Report for more information.
- Use the following Renviron settings to reproduce errors and warnings.
- If 'R CMD check' started to fail recently on the Linux builder(s) over a missing dependency, add the missing dependency to 'Suggests:' in your DESCRIPTION file. See Renviron.bioc for more information.
Results for Bioconductor software packages that depend directly on package DelayedRandomArray
QUICK STATS | OS / Arch | INSTALL | BUILD | CHECK | BUILD BIN | |
---|---|---|---|---|---|---|
nebbiolo1 | Linux (Ubuntu 24.04.1 LTS) / x86_64 | 001 | 001 | 0010 | ||
palomino7 | Windows Server 2022 Datacenter / x64 | 001 | 001 | 0010 | 001 | |
merida1 | macOS 12.7.5 Monterey / x86_64 | 001 | 001 | 0010 | 001 | |
kjohnson1 | macOS 13.6.6 Ventura / arm64 | 001 | 001 | 0010 | 001 | |
Package 1/1 | Hostname | OS / Arch | INSTALL | BUILD | CHECK | BUILD BIN |
DelayedTensor 1.14.0 (landing page)Koki Tsuyuzaki git_last_commit: 85b592f git_last_commit_date: 2025-04-15 12:33:33 -0400 | nebbiolo1 | Linux (Ubuntu 24.04.1 LTS) / x86_64 | OK | OK | WARNINGS | ![]() |
palomino7 | Windows Server 2022 Datacenter / x64 | OK | OK | WARNINGS | OK | ![]() |
merida1 | macOS 12.7.5 Monterey / x86_64 | OK | OK | WARNINGS | OK | ![]() |
kjohnson1 | macOS 13.6.6 Ventura / arm64 | OK | OK | WARNINGS | OK | ![]() |