Multiple platform build/check report for BioC 3.21 (original) (raw)

This page was generated on 2025-10-16 11:36 -0400 (Thu, 16 Oct 2025).

Hostname OS Arch (*) R version Installed pkgs
nebbiolo1 Linux (Ubuntu 24.04.3 LTS) x86_64 4.5.1 (2025-06-13) -- "Great Square Root" 4833
merida1 macOS 12.7.6 Monterey x86_64 4.5.1 RC (2025-06-05 r88288) -- "Great Square Root" 4614
kjohnson1 macOS 13.7.5 Ventura arm64 4.5.1 Patched (2025-06-14 r88325) -- "Great Square Root" 4555
kunpeng2 Linux (openEuler 24.03 LTS) aarch64 R Under development (unstable) (2025-02-19 r87757) -- "Unsuffered Consequences" 4586
Click on any hostname to see more info about the system (e.g. compilers) (*) as reported by 'uname -p', except on Windows and Mac OS X

All results for package EDIRquery

To the developers/maintainers of the EDIRquery package:
- Allow up to 24 hours (and sometimes 48 hours) for your latest push to git@git.bioconductor.org:packages/EDIRquery.git to reflect on this report. See Troubleshooting Build Report for more information.
- Use the following Renviron settings to reproduce errors and warnings.
- If 'R CMD check' started to fail recently on the Linux builder(s) over a missing dependency, add the missing dependency to 'Suggests:' in your DESCRIPTION file. See Renviron.bioc for more information.

raw results