Build/check report for BioC 3.21 experimental data (original) (raw)

STexampleData 1.16.0 (landing page)
Lukas M. Weber

Snapshot Date: 2025-05-01 07:30 -0400 (Thu, 01 May 2025)
git_url: https://git.bioconductor.org/packages/STexampleData
git_branch: RELEASE_3_21
git_last_commit: 1e118c8
git_last_commit_date: 2025-04-15 10:17:00 -0400 (Tue, 15 Apr 2025)

nebbiolo1

Linux (Ubuntu 24.04.1 LTS) / x86_64

OK

OK

OK

UNNEEDED, same version is already published