Build/check report for BioC 3.21 experimental data (original) (raw)

dressCheck 0.46.0 (landing page)
Vincent Carey

Snapshot Date: 2025-10-16 07:30 -0400 (Thu, 16 Oct 2025)
git_url: https://git.bioconductor.org/packages/dressCheck
git_branch: RELEASE_3_21
git_last_commit: 36b4f97
git_last_commit_date: 2025-04-15 09:17:06 -0400 (Tue, 15 Apr 2025)

nebbiolo1

Linux (Ubuntu 24.04.3 LTS) / x86_64

OK

OK

OK

UNNEEDED, same version is already published