Build/check report for BioC 3.21 experimental data (original) (raw)

sampleClassifierData 1.32.0 (landing page)
Khadija El Amrani

Snapshot Date: 2025-05-01 07:30 -0400 (Thu, 01 May 2025)
git_url: https://git.bioconductor.org/packages/sampleClassifierData
git_branch: RELEASE_3_21
git_last_commit: d2d5aad
git_last_commit_date: 2025-04-15 10:15:52 -0400 (Tue, 15 Apr 2025)

nebbiolo1

Linux (Ubuntu 24.04.1 LTS) / x86_64

OK

OK

OK

UNNEEDED, same version is already published